BEGIN:VCALENDAR
VERSION:2.0
PRODID:-//ChamberMaster//Event Calendar 2.0//EN
METHOD:PUBLISH
X-PUBLISHED-TTL:P3D
REFRESH-INTERVAL:P3D
CALSCALE:GREGORIAN
BEGIN:VEVENT
DTSTART:20260519T210000Z
DTEND:20260519T230000Z
X-MICROSOFT-CDO-ALLDAYEVENT:FALSE
SUMMARY:Business After Hours - Star Communications
DESCRIPTION:Enjoy networking\, refreshments\, and a chance to connect with fellow members.
X-ALT-DESC;FMTTYPE=text/html:<div>\n<div>\n<div style="font-size: 16px\; line-height: 1.4\; direction: ltr\; letter-spacing: 0em\;">\n<p>Enjoy networking\, refreshments\, and a chance to connect with fellow members.</p>\n</div>\n</div>\n</div>\n
LOCATION:1322 Sunset Avenue\, Clinton\, NC
UID:e.67.10039
SEQUENCE:3
DTSTAMP:20260423T182817Z
URL:https://business.clintonsampsonchamber.org/events/details/business-after-hours-star-communications-10039
END:VEVENT

END:VCALENDAR
